BEGIN:VCALENDAR
VERSION:2.0
PRODID:dps.georgia.gov
X-WR-TIMEZONE:America/New_York
BEGIN:VTIMEZONE
TZID:America/New_York
X-LIC-LOCATION:America/New_York
END:VTIMEZONE
BEGIN:VEVENT
UID:61665cb2c4e3c
DTSTART;TZID=UTC:20130110T183000
SEQUENCE:0
TRANSP:OPAQUE
DTEND;TZID=UTC:20130110T183000
URL:https://dps.georgia.gov/events/2013-01-10/notice-hearing-mccd-regulatio
 ns-compliance
SUMMARY:Notice of Hearing - MCCD Regulations Compliance
CLASS:PUBLIC
DESCRIPTION:NOTICE IS HEREBY GIVEN ALL INTERESTED PARTIES that the followin
 g additional matters have been assigned for hearing before the Department 
 of Public Safety (herein after referred to DPS) on January 10\, 2013 1:30 
 PM in the Georgia Department of Public Safety Training Room at 320 Chester
  Avenue\, S.E.\, Atlanta\, GA 30316.\n\nNOTE:       UNPROTESTED APPL
 ICATIONS DO NOT REQUIRE AN APPEARANCE BY APPLICANT.    Applicants for M
 otor Carrier Interim Certificates must appear in person at the hearing if 
 application is protested and present testimony.  Applicants will be notif
 ied by the DPS staff if they need to appear.
DTSTAMP:20211013T001234Z
END:VEVENT
END:VCALENDAR