BEGIN:VCALENDAR
PRODID:dps.georgia.gov
VERSION:2.0
CALSCALE:GREGORIAN
BEGIN:VEVENT
UID:fca91fd59e9c311cb11a691f289b01d9
DTSTAMP:20260424T200720Z
SUMMARY:Notice of Public Hearing
DESCRIPTION:The attached file contains proposed administrative rule changes
  to be presented at a public hearing on February 13\, 2013.
URL:https://dps.georgia.gov/events/2013-02-13/notice-public-hearing
DTSTART;VALUE=DATE:20130213
DTEND;VALUE=DATE:20130214
X-LIC-LOCATION:America/New_York
X-WR-TIMEZONE:America/New_York
END:VEVENT
BEGIN:VTIMEZONE
TZID:America/New_York
END:VTIMEZONE
END:VCALENDAR
