BEGIN:VCALENDAR
PRODID:dps.georgia.gov
VERSION:2.0
CALSCALE:GREGORIAN
BEGIN:VEVENT
UID:dd3134f24d398e6dbb1f5211790337ff
DTSTAMP:20260424T201229Z
SUMMARY:Notice of Meeting - Board of Public Safety
DESCRIPTION:Board of Public Safety MeetingDepartment of CorrectionsBoard Ro
 omAtlanta\, GA
URL:https://dps.georgia.gov/events/2013-02-14/notice-meeting-board-public-s
 afety
DTSTART;VALUE=DATE:20130214
DTEND;VALUE=DATE:20130215
X-LIC-LOCATION:America/New_York
X-WR-TIMEZONE:America/New_York
END:VEVENT
BEGIN:VTIMEZONE
TZID:America/New_York
END:VTIMEZONE
END:VCALENDAR
