BEGIN:VCALENDAR
VERSION:2.0
PRODID:dps.georgia.gov
X-WR-TIMEZONE:America/New_York
BEGIN:VTIMEZONE
TZID:America/New_York
X-LIC-LOCATION:America/New_York
END:VTIMEZONE
BEGIN:VEVENT
UID:60a1ae1727c5c
DTSTART;TZID=UTC:20200604T140000
SEQUENCE:0
TRANSP:OPAQUE
URL:https://dps.georgia.gov/events/2020-06-04/mccd-notice-public-hearing-ju
 ne-2020
LOCATION:Media Room - Georgia Department of Public Safety 959 United Ave SE
  ATLANTA\, GA 30316
SUMMARY:MCCD Notice of Public Hearing - June 2020
CLASS:PUBLIC
DESCRIPTION:ASSIGNMENT\nOF HEARING BEFORE\nGEORGIA DEPARTMENT OF PUBLIC SAF
 ETY\n\n\n\n\nNOTICE IS HEREBY GIVEN ALL INTERESTED PARTIES that the follow
 ing additional matters have been assigned for hearing before the Departmen
 t of Public Safety (herein after referred to DPS) on June 4\, 2020 10:00 A
 M in the Georgia Department of Public Safety Media Room at 959 United SE A
 ve.\, Atlanta\, GA 30316.\n\n\n\n\nNOTE: UNPROTESTED APPLICATIONS DO NOT R
 EQUIRE AN APPEARANCE BY APPLICANT. Applicants for Motor Carrier Interim Ce
 rtificates must appear in person at the hearing if application is proteste
 d and present testimony. APPLICANTS WILL BE NOTIFIED BY THE DPS STAFF IF T
 HEY NEED TO APPEAR.\n\n\n\n\nIMPORTANT: Any carrier or carrier's represent
 ative desiring to appear at a public hearing in opposition to an applicati
 on seeking motor carrier authority\, or amendment to existing authority\, 
 must notify the applicant and the DPS of his intentions to appear at the h
 earing to protest the application. Such notification shall be made by lett
 er or fax dispatched so as to reach the applicant and the DPS at least fif
 teen (15) days prior to the assigned hearing date.\n\n\n\n\nIMPORTANT: Whe
 re a protest to an Application is received by the Department\, the HEARING
  DATE published herein for that Application is SUBJECT TO CHANGE. The stat
 us of each docket (including hearing date changes) can be followed by chec
 king the Department’s website at http://dps.georgia.gov.\n\n\n\n\nIf you
  have a disability and will need assistance or accommodation to participat
 e\, or need further information\, please contact MCCD---Regulations Compli
 ance\, Georgia Department of Public Safety\, at (404) 624-7244.\n\n\n\nMOT
 OR CARRIER HEARING\nJune 4\, 2020 10:00 AM\n 
DTSTAMP:20210516T194319Z
END:VEVENT
END:VCALENDAR