BEGIN:VCALENDAR
VERSION:2.0
PRODID:dps.georgia.gov
X-WR-TIMEZONE:America/New_York
BEGIN:VTIMEZONE
TZID:America/New_York
X-LIC-LOCATION:America/New_York
END:VTIMEZONE
BEGIN:VEVENT
UID:60a6766a29d82
DTSTART;TZID=UTC:20130710T150000
SEQUENCE:0
TRANSP:OPAQUE
DTEND;TZID=UTC:20130710T170000
URL:https://dps.georgia.gov/events/2013-07-10/fallen-trooper-road-dedicatio
 n-sgt-william-f-black-jr
SUMMARY:Fallen Trooper Road Dedication - Sgt. William F. Black\, Jr.
CLASS:PUBLIC
DESCRIPTION:Event Registration Online powered by Eventbrite
DTSTAMP:20210520T104706Z
END:VEVENT
END:VCALENDAR