BEGIN:VCALENDAR
VERSION:2.0
PRODID:dps.georgia.gov
X-WR-TIMEZONE:America/New_York
BEGIN:VTIMEZONE
TZID:America/New_York
X-LIC-LOCATION:America/New_York
END:VTIMEZONE
BEGIN:VEVENT
UID:609a1edd4c4a5
DTSTART;TZID=UTC:20210209T150000
SEQUENCE:0
TRANSP:OPAQUE
URL:https://dps.georgia.gov/events/2021-02-09/mccd-notice-public-hearing-ja
 nuary-2021
LOCATION:Department of Public Safety - Media Room 959 United Avenue\, SE AT
 LANTA\, GA 30316
SUMMARY:MCCD Notice of Public Hearing - January 2021
CLASS:PUBLIC
DTSTAMP:20210511T020621Z
END:VEVENT
END:VCALENDAR