BEGIN:VCALENDAR
VERSION:2.0
PRODID:dps.georgia.gov
X-WR-TIMEZONE:America/New_York
BEGIN:VTIMEZONE
TZID:America/New_York
X-LIC-LOCATION:America/New_York
END:VTIMEZONE
BEGIN:VEVENT
UID:615ece081a489
DTSTART;TZID=UTC:20210311T150000
SEQUENCE:0
TRANSP:OPAQUE
URL:https://dps.georgia.gov/events/2021-03-11/mccd-notice-public-hearing-ma
 rch-2021
LOCATION:Georgia Department of Public Safety Media Room 959 United Ave. SE 
 ATLANTA\, GA 30316
SUMMARY:MCCD Notice of Public Hearing - March 2021
CLASS:PUBLIC
DESCRIPTION:ASSIGNMENT\nOF HEARING BEFORE\nGEORGIA DEPARTMENT OF PUBLIC SAF
 ETY\n\n\n\nNOTICE IS HEREBY GIVEN ALL INTERESTED PARTIES that the followin
 g additional matters have been assigned for hearing before the Department 
 of Public Safety (herein after referred to DPS) on March 11\, 2021 10:00 A
 M in the Georgia Department of Public Safety Media Room at 959 United SE A
 ve.\, Atlanta\, GA 30316.\nNOTE: UNPROTESTED APPLICATIONS DO NOT REQUIRE A
 N APPEARANCE BY APPLICANT. Applicants for Motor Carrier Interim Certificat
 es must appear in person at the hearing if application is protested and pr
 esent testimony. APPLICANTS WILL BE NOTIFIED BY THE DPS STAFF IF THEY NEED
  TO APPEAR.\n\n\n\n\nIMPORTANT: Any carrier or carrier's representative de
 siring to appear at a public hearing in opposition to an application seeki
 ng motor carrier authority\, or amendment to existing authority\, must not
 ify the applicant and the DPS of his intentions to appear at the hearing t
 o protest the application. Such notification shall be made by letter or fa
 x dispatched so as to reach the applicant and the DPS at least fifteen (15
 ) days prior to the assigned hearing date.\n\n\n\n\nIMPORTANT: Where a pro
 test to an Application is received by the Department\, the HEARING DATE pu
 blished herein for that Application is SUBJECT TO CHANGE. The status of ea
 ch docket (including hearing date changes) can be followed by checking the
  Department’s website at http://dps.georgia.gov.\n\n\n\n\nIf you have a 
 disability and will need assistance or accommodation to participate\, or n
 eed further information\, please contact MCCD---Regulations Compliance\, G
 eorgia Department of Public Safety\, at (404) 624-7244.\n\n\n\n\nMOTOR CAR
 RIER HEARING\nMarch 11\, 2021 10:00 AM
DTSTAMP:20211007T063800Z
END:VEVENT
END:VCALENDAR