BEGIN:VCALENDAR
VERSION:2.0
PRODID:dps.georgia.gov
X-WR-TIMEZONE:America/New_York
BEGIN:VTIMEZONE
TZID:America/New_York
X-LIC-LOCATION:America/New_York
END:VTIMEZONE
BEGIN:VEVENT
UID:615ecdfc1ec3a
DTSTART;TZID=UTC:20210412T140000
SEQUENCE:0
TRANSP:OPAQUE
URL:https://dps.georgia.gov/events/2021-04-12/mccd-notice-public-hearing-ap
 ril-2021
LOCATION:Georgia Department of Public Safety Media Room 959 United Ave. SE 
 ATLANTA\, GA 30316
SUMMARY:MCCD Notice of Public Hearing - April 2021
CLASS:PUBLIC
DESCRIPTION:ASSIGNMENT\nOF HEARING BEFORE\nGEORGIA DEPARTMENT OF PUBLIC SAF
 ETY\n\n\n\n\nNOTICE IS HEREBY GIVEN ALL INTERESTED PARTIES that the follow
 ing additional matters have been assigned for hearing before the Departmen
 t of Public Safety (herein after referred to DPS) on April 12\, 2021 10:00
  AM in the Georgia Department of Public Safety Media Room at 959 United SE
  Ave.\, Atlanta\, GA 30316.\n\n\n\n\nNOTE: UNPROTESTED APPLICATIONS DO NOT
  REQUIRE AN APPEARANCE BY APPLICANT. Applicants for Motor Carrier Interim 
 Certificates must appear in person at the hearing if application is protes
 ted and present testimony. APPLICANTS WILL BE NOTIFIED BY THE DPS STAFF IF
  THEY NEED TO APPEAR.\n\n\n\n\nIMPORTANT: Any carrier or carrier's represe
 ntative desiring to appear at a public hearing in opposition to an applica
 tion seeking motor carrier authority\, or amendment to existing authority\
 , must notify the applicant and the DPS of his intentions to appear at the
  hearing to protest the application. Such notification shall be made by le
 tter or fax dispatched so as to reach the applicant and the DPS at least f
 ifteen (15) days prior to the assigned hearing date.\n\n\n\n\nIMPORTANT: W
 here a protest to an Application is received by the Department\, the HEARI
 NG DATE published herein for that Application is SUBJECT TO CHANGE. The st
 atus of each docket (including hearing date changes) can be followed by ch
 ecking the Department’s website at http://dps.georgia.gov.\n\n\n\n\nIf y
 ou have a disability and will need assistance or accommodation to particip
 ate\, or need further information\, please contact MCCD---Regulations Comp
 liance\, Georgia Department of Public Safety\, at (404) 624-7244.\n\n\n\n\
 nMOTOR CARRIER HEARING\nApril 12\, 2021 10:00 AM
DTSTAMP:20211007T063748Z
END:VEVENT
END:VCALENDAR