BEGIN:VCALENDAR
VERSION:2.0
PRODID:dps.georgia.gov
X-WR-TIMEZONE:America/New_York
BEGIN:VTIMEZONE
TZID:America/New_York
X-LIC-LOCATION:America/New_York
END:VTIMEZONE
BEGIN:VEVENT
UID:615ecdeb6e3ad
DTSTART;VALUE=DATE:20211206
SEQUENCE:0
TRANSP:OPAQUE
DTEND;VALUE=DATE:20211211
URL:https://dps.georgia.gov/events/2021-12-06/peer-counselor-certification-
 course-december-2021
LOCATION:120 Paul Franklin Road CLARKSVILLE\, GA 30523
SUMMARY:Peer Counselor Certification Course - December 2021
CLASS:PUBLIC
X-MICROSOFT-CDO-ALLDAYEVENT:TRUE
DTSTAMP:20211007T063731Z
END:VEVENT
END:VCALENDAR