BEGIN:VCALENDAR
PRODID:dps.georgia.gov
VERSION:2.0
CALSCALE:GREGORIAN
BEGIN:VEVENT
UID:c9179486824adffe1d1677c43493f20e
DTSTAMP:20260424T211715Z
SUMMARY:NOTICE OF MEETING (VIRTUAL/CALL-IN) - Board of Public Safety OCTOBE
 R 2021
URL:https://dps.georgia.gov/events/2021-10-28/notice-meeting-virtualcall-bo
 ard-public-safety-october-2021
DTSTART;VALUE=DATE:20211028
X-LIC-LOCATION:America/New_York
X-WR-TIMEZONE:America/New_York
END:VEVENT
BEGIN:VTIMEZONE
TZID:America/New_York
END:VTIMEZONE
END:VCALENDAR
