BEGIN:VCALENDAR
PRODID:dps.georgia.gov
VERSION:2.0
CALSCALE:GREGORIAN
BEGIN:VEVENT
UID:f8e9b292098de8e0bb3c3f6ea91f1fb1
DTSTAMP:20260424T005902Z
SUMMARY:Peer Counselor Certification Course - June 2026 (CLASS FULL)
DESCRIPTION:*This class is designed specifically for Public Safety Officers
 \, as defined in GA HB 703. The class is limited to 30 students. Please co
 mplete the registration form below and submit to OPSS. 
URL:https://dps.georgia.gov/events/2026-06-08/peer-counselor-certification-
 course-june-2026-class-full-0
DTSTART;VALUE=DATE:20260608
DTEND;VALUE=DATE:20260613
LOCATION:1220 Forrest Drive  Statesboro\, GA 30460 US
X-LIC-LOCATION:America/New_York
X-WR-TIMEZONE:America/New_York
END:VEVENT
BEGIN:VTIMEZONE
TZID:America/New_York
END:VTIMEZONE
END:VCALENDAR
