BEGIN:VCALENDAR
PRODID:dps.georgia.gov
VERSION:2.0
CALSCALE:GREGORIAN
BEGIN:VEVENT
UID:fea2106c0bd229760853b117398e8dc8
DTSTAMP:20260422T052326Z
SUMMARY:BPS Notice of Meeting - May 2026
DESCRIPTION:Tuesday\, May 5\, 2026 at 3:00 p.m.Georgia Public Safety Traini
 ng Center – Room C-1151000 Indian Springs DriveForsyth\, Georgia 31029
URL:https://dps.georgia.gov/events/2026-05-05/bps-notice-meeting-may-2026
DTSTART;VALUE=DATE:20260505
LOCATION:1000 Indian Springs Drive  Forsyth\, GA 31029 US
X-LIC-LOCATION:America/New_York
X-WR-TIMEZONE:America/New_York
END:VEVENT
BEGIN:VTIMEZONE
TZID:America/New_York
END:VTIMEZONE
END:VCALENDAR
