BEGIN:VCALENDAR
PRODID:dps.georgia.gov
VERSION:2.0
CALSCALE:GREGORIAN
BEGIN:VEVENT
UID:c22e6030e58cc5b11cad227d43985437
DTSTAMP:20260422T052318Z
SUMMARY:Peer Counselor 8-hr Re-Certification - May 2026
DESCRIPTION:The Georgia Department of Public Safety's Office of Public Safe
 ty Support is offering an eight-hour Peer Support Counselor Re-Certificati
 on course for certified peer support counselors.\n\nNOTE: You must attend 
 this class within three years of your original certification to maintain c
 ertified status. Students will receive eight hours of POST/Fire Academy/EM
 S credit. 
URL:https://dps.georgia.gov/events/2026-05-20/peer-counselor-8-hr-re-certif
 ication-may-2026
DTSTART;VALUE=DATE:20260520
DTEND;VALUE=DATE:20260521
LOCATION:3401 Edwin Street  Savannah\, GA 31405 US
X-LIC-LOCATION:America/New_York
X-WR-TIMEZONE:America/New_York
END:VEVENT
BEGIN:VTIMEZONE
TZID:America/New_York
END:VTIMEZONE
END:VCALENDAR
