BEGIN:VCALENDAR
PRODID:dps.georgia.gov
VERSION:2.0
CALSCALE:GREGORIAN
BEGIN:VEVENT
UID:2193aa803abd168584cfedddbfa035a7
DTSTAMP:20260424T200847Z
SUMMARY:Notice of Public Hearing - MCCD Regulations
DESCRIPTION:NOTICE IS HEREBY GIVEN ALL INTERESTED PARTIES that the followin
 g additional matters have been assigned for hearing before the Department 
 of Public Safety (herein after referred to DPS) on September 15\, 2014 10:
 00 AM in the Georgia Department of Public Safety Media Room at 959 E.\, Co
 nfederate Ave.\, Atlanta\, GA 30316.\n\nNOTE: UNPROTESTED APPLICATIONS DO 
 NOT REQUIRE AN APPEARANCE BY APPLICANT. Applicants for Motor Carrier Inter
 im Certificates must appear in person at the hearing if application is pro
 tested and present testimony. APPLICANTS WILL BE NOTIFIED BY THE DPS STAFF
  IF THEY NEED TO APPEAR.
URL:https://dps.georgia.gov/events/2014-09-15/notice-public-hearing-mccd-re
 gulations
DTSTART;VALUE=DATE:20140915
DTEND;VALUE=DATE:20140916
LOCATION:959 E. Confederate Ave.  Atlanta\, GA 30316 US
X-LIC-LOCATION:America/New_York
X-WR-TIMEZONE:America/New_York
END:VEVENT
BEGIN:VTIMEZONE
TZID:America/New_York
END:VTIMEZONE
END:VCALENDAR
