BEGIN:VCALENDAR
VERSION:2.0
PRODID:dps.georgia.gov
X-WR-TIMEZONE:America/New_York
BEGIN:VTIMEZONE
TZID:America/New_York
X-LIC-LOCATION:America/New_York
END:VTIMEZONE
BEGIN:VEVENT
UID:60a5d2f2e5de7
DTSTART;TZID=UTC:20141113T150000
SEQUENCE:0
TRANSP:OPAQUE
DTEND;TZID=UTC:20141113T150000
URL:https://dps.georgia.gov/events/2014-11-13/notice-meeting-board-public-s
 afety
LOCATION:1000 Indian Springs Drive FORSYTH\, GA 31029
SUMMARY:Notice of Meeting - Board of Public Safety
CLASS:PUBLIC
DESCRIPTION:The November meeting of the Georgia Board of Public Safety will
  be held Thursday\, November 13\, at 10 a.m. in the Georgia Public Safety 
 Training Center Pavilion in Forsyth\, GA.
DTSTAMP:20210519T230938Z
END:VEVENT
END:VCALENDAR