BEGIN:VCALENDAR
VERSION:2.0
PRODID:dps.georgia.gov
X-WR-TIMEZONE:America/New_York
BEGIN:VTIMEZONE
TZID:America/New_York
X-LIC-LOCATION:America/New_York
END:VTIMEZONE
BEGIN:VEVENT
UID:616253c48bd1f
DTSTART;TZID=UTC:20160211T160000
SEQUENCE:0
TRANSP:OPAQUE
DTEND;TZID=UTC:20160211T160000
URL:https://dps.georgia.gov/events/2016-02-11/board-public-safety-meeting-t
 hursday-february-11-2016-1000-am
SUMMARY:BOARD OF PUBLIC SAFETY MEETING - Thursday\, February 11\, 2016  at 
 10:00 a.m.
CLASS:PUBLIC
DTSTAMP:20211009T224524Z
END:VEVENT
END:VCALENDAR