BEGIN:VCALENDAR
VERSION:2.0
PRODID:dps.georgia.gov
X-WR-TIMEZONE:America/New_York
BEGIN:VTIMEZONE
TZID:America/New_York
X-LIC-LOCATION:America/New_York
END:VTIMEZONE
BEGIN:VEVENT
UID:616253bbe1dae
DTSTART;TZID=UTC:20160414T170000
SEQUENCE:0
TRANSP:OPAQUE
DTEND;TZID=UTC:20160414T170000
URL:https://dps.georgia.gov/events/2016-04-14/board-public-safety-meeting
LOCATION:National Guard Armory 1200 E. Barnard Street GLENNVILLE\, GA 30427
SUMMARY:Board of Public Safety Meeting
CLASS:PUBLIC
DESCRIPTION:AGENDA\n\nCall to Order                    
                                      
                    Mr. Wayne Dasher\, BOC Member\n\nWelc
 ome-City of Glennville                          
                          Mr. Chris Roessler\, May
 or\n\nInvocation & Blessing                       
                                      
  Mr. Mike Howard\, Glennville First Baptist            \n\nPle
 dge of Allegiance & Recognize Guests                   
           Mr. Wayne Dasher\, Board of Corrections   \n\nDEPAR
 TMENT OF COMMUNITY SUPERVISION                     \n
 \nCommissioner’s Update                        
                                    Mr. 
 Michael Nail\, Commissioner\n\nDEPARTMENT OF JUVENILE JUSTICE      
                    \n\nCommissioner’s Update    
                                      
                    Mr. Avery Niles\, Commissioner\n\nST
 ATE BOARD OF PARDONS & PAROLES        \n\nPardons & Paroles Update
                                      
                    Mr. Terry Barnard\, Chairman\n\nBOAR
 D OF CORRECTIONS                             
                      Ms. Rose Williams\, Chairman\n\n
 Commissioner’s Update                         
                                    Mr. 
 Homer Bryson\, Commissioner\n\nRecognize and Honor:Correctional Officers A
 ppreciation Week & National Nurses Week\n\n  \n\nBOARD OF PUBLIC SAFETY\
 n\nCall to Order                             
                                      
           Vice-Chairman Ellis Wood\n\nApproval of March 2016 Minu
 tes                                   
         Vice-Chairman Ellis Wood\n\nDirector Reports       
                                      
  \n\nDepartment of Public Safety                    
                   Commissioner Mark W. McDonough\n\n  
           Georgia Bureau of Investigation            
                    Director Vernon Keenan\n\n     
        Georgia Public Safety Training Center            
          Director Chris Wigginton\n\nDonations\n\n        
     Department of Public Safety                    
                   Major Jason Johnson\n\nGeorgia Public S
 afety Training Center                           
        Ms. Cindy Franklin\n\nOld/New Business\n\n    Resolution-T
 ransfer of Property from TCSG to GBI         Assistant Director D
 an Kirk\n\n    Bond Resolutions\n\n    GBI             
                                      
                                     Ass
 istant Director Dan Kirk \n\n    DPS                 
                                      
                                Ms. Christina
  Calloway\n\n    GPSTC                        
                                      
                     Ms. Cindy Franklin\n\n    CJCC 
                                      
                                      
         CFO Nathan Branscome
DTSTAMP:20211009T224515Z
END:VEVENT
END:VCALENDAR