BEGIN:VCALENDAR
VERSION:2.0
PRODID:dps.georgia.gov
X-WR-TIMEZONE:America/New_York
BEGIN:VTIMEZONE
TZID:America/New_York
X-LIC-LOCATION:America/New_York
END:VTIMEZONE
BEGIN:VEVENT
UID:616253b4d1cb7
DTSTART;TZID=UTC:20160512T140000
SEQUENCE:0
TRANSP:OPAQUE
DTEND;TZID=UTC:20160512T140000
URL:https://dps.georgia.gov/events/2016-05-12/board-public-safety-meeting
LOCATION:Plant Vogtle 7821 River Road WAYNESBORO\, GA
SUMMARY:Board of Public Safety Meeting
CLASS:PUBLIC
DESCRIPTION:Board of Public Safety\n\nGovernor Nathan Deal\n\nChairman  
                                      
                                      
   \n\nBOARD OF PUBLIC SAFETY MEETING\n\nAGENDA\n\n1.         Cal
 l to Order                                
                                      
       Vice-Chairman Ellis Wood\n\n2.         Invocation and 
                                      
                                   Chief 
 Augustus Palmer\n\n            Pledge of Allegiance      
                                      
                     Waynesboro PD\n\n3.         R
 ecognition of Guests                           
                                   Vice-C
 hairman Ellis Wood\n\n4.         Approval of April 2016 Minutes 
                                       
       Vice-Chairman Ellis Wood\n\n5.         Director Reports
 \n\n              Department of Public Safety        
                                      
      Deputy Commissioner Russell Powell\n\n              
 Georgia Bureau of Investigation                     
                        Director Vernon Keenan\n\n  
             Georgia Public Safety Training Center       
                            Director Chris Wiggint
 on\n\n6.         Donations\n\n              Department
  of Public Safety                            
                      Major Jason Johnson\n\n    
           Georgia Public Safety Training Center         
                         Ms. Cindy Franklin\n\n7.  
       Old/New Business                       
                                      
        Vice-Chairman Ellis Wood
DTSTAMP:20211009T224508Z
END:VEVENT
END:VCALENDAR