BEGIN:VCALENDAR
VERSION:2.0
PRODID:dps.georgia.gov
X-WR-TIMEZONE:America/New_York
BEGIN:VTIMEZONE
TZID:America/New_York
X-LIC-LOCATION:America/New_York
END:VTIMEZONE
BEGIN:VEVENT
UID:616253ac59e72
DTSTART;TZID=UTC:20160617T170000
SEQUENCE:0
TRANSP:OPAQUE
DTEND;TZID=UTC:20160617T170000
URL:https://dps.georgia.gov/events/2016-06-17/board-public-safety-meeting
LOCATION:DPS Headquarters - Blue Room 959 East Confederate Avenue\, SE ATLA
 NTA\, GA 30316
SUMMARY:Board of Public Safety Meeting
CLASS:PUBLIC
DESCRIPTION:AGENDA\n\n1.         Call to Order          
                                      
                       Vice-Chairman Ellis Wood\n\n2.
          Director Reports\n\n              Department
  of Public Safety                            
                  Commissioner Mark McDonough\n\n     
          Georgia Bureau of Investigation             
                            Director Vernon Keen
 an\n\n              Georgia Public Safety Training Center  
                               Deputy Directo
 r Tony Hightower\n\n3.         Donations\n\n           
    Department of Public Safety                     
                           Mrs. Amy Stancil\n\n 
              Georgia Public Safety Training Center      
                            Ms. Cindy Franklin\n\
 n4.         Resolutions                     
                                      
                   \n\n              DPS-Sca
 le Barn                                 
                                 Ms. Joan C
 rumpler \n\n              GBI-Revocable License and Non-Excl
 usive                          Mr. Dan Kirk\n\n 
                  Easement to GA Power Company
DTSTAMP:20211009T224500Z
END:VEVENT
END:VCALENDAR