BEGIN:VCALENDAR
VERSION:2.0
PRODID:dps.georgia.gov
X-WR-TIMEZONE:America/New_York
BEGIN:VTIMEZONE
TZID:America/New_York
X-LIC-LOCATION:America/New_York
END:VTIMEZONE
BEGIN:VEVENT
UID:616253a06252f
DTSTART;TZID=UTC:20161221T150000
SEQUENCE:0
TRANSP:OPAQUE
DTEND;TZID=UTC:20161221T150000
URL:https://dps.georgia.gov/events/2016-12-21/notice-public-hearing
LOCATION:GA Dept. of Public Safety Media Room 959 East COnfederate Avenue\,
  SE ATLANTA\, GA 30316
SUMMARY:Notice of Public Hearing
CLASS:PUBLIC
DESCRIPTION:A public hearing will be held for the presentation of proposed 
 administrative rule changes which are attached and incorporated by referen
 ce.  See attached document.
DTSTAMP:20211009T224448Z
END:VEVENT
END:VCALENDAR