BEGIN:VCALENDAR
VERSION:2.0
PRODID:dps.georgia.gov
X-WR-TIMEZONE:America/New_York
BEGIN:VTIMEZONE
TZID:America/New_York
X-LIC-LOCATION:America/New_York
END:VTIMEZONE
BEGIN:VEVENT
UID:6162538e376cf
DTSTART;TZID=UTC:20170223T150000
SEQUENCE:0
TRANSP:OPAQUE
DTEND;TZID=UTC:20170223T150000
URL:https://dps.georgia.gov/events/2017-02-23/notice-public-hearing
LOCATION:959 East Confederate Avenue\, SE ATLANTA\, GA 30316
SUMMARY:Notice of Public Hearing
CLASS:PUBLIC
DESCRIPTION:Please take notice that on February 23\, 2017 at 10 a.m. in the
  Media Room at the Georgia Department of Public Safety\, 959 East Confeder
 ate Avenue\, SE\, Atlanta\, a public hearing will be held for the presenti
 ng of the proposed administrative rule changes which are attached and inco
 rporated by reference.  The chapters affected by the proposed rule and re
 gulation are listed below:\n\nRule of the Department of Public Safety\n\nC
 hapter 570-6: (REPEALED)\n\nChapter 570-36: Nonconsenual Towing\n\nCapter 
 570-37: Tire Chains\n\nFurther information can be found in the attached do
 cuments.
DTSTAMP:20211009T224430Z
END:VEVENT
END:VCALENDAR